BEGIN:VCALENDAR
VERSION:2.0
PRODID:-//ChamberMaster//Event Calendar 2.0//EN
METHOD:PUBLISH
X-PUBLISHED-TTL:P3D
REFRESH-INTERVAL:P3D
CALSCALE:GREGORIAN
BEGIN:VEVENT
DTSTART:20221019T183000Z
DTEND:20221019T190000Z
X-MICROSOFT-CDO-ALLDAYEVENT:FALSE
SUMMARY:Facebook Live Interview
DESCRIPTION:Join us and watch Steve Smith interview Tricia Yee about print media!!
X-ALT-DESC;FMTTYPE=text/html:Join us and watch Steve Smith interview Tricia Yee about print media!!
LOCATION:Facebook Live
UID:e.3598.3588622
SEQUENCE:3
DTSTAMP:20260421T091259Z
URL:https://business.lakeforestcachamber.com/events/details/facebook-live-interview-3588622
END:VEVENT

END:VCALENDAR
