BEGIN:VCALENDAR
VERSION:2.0
PRODID:-//ChamberMaster//Event Calendar 2.0//EN
METHOD:PUBLISH
X-PUBLISHED-TTL:P3D
REFRESH-INTERVAL:P3D
CALSCALE:GREGORIAN
BEGIN:VEVENT
DTSTART:20221109T193000Z
DTEND:20221109T200000Z
X-MICROSOFT-CDO-ALLDAYEVENT:FALSE
SUMMARY:Facebook Live Interview
DESCRIPTION:Join us on Facebook Live to watch our Host\, Steve Smith\, interview Aram Keuilian with Forest Multispecialty about Health Clinics!
X-ALT-DESC;FMTTYPE=text/html:Join us on Facebook Live to watch our Host\, Steve Smith\, interview Aram Keuilian with Forest Multispecialty about Health Clinics!
LOCATION:Facebook Live
UID:e.3598.3588624
SEQUENCE:3
DTSTAMP:20260420T120741Z
URL:https://business.lakeforestcachamber.com/events/details/facebook-live-interview-3588624
END:VEVENT

END:VCALENDAR
