BEGIN:VCALENDAR
VERSION:2.0
PRODID:-//ChamberMaster//Event Calendar 2.0//EN
METHOD:PUBLISH
X-PUBLISHED-TTL:P3D
REFRESH-INTERVAL:P3D
CALSCALE:GREGORIAN
BEGIN:VEVENT
DTSTART:20221116T193000Z
DTEND:20221116T200000Z
X-MICROSOFT-CDO-ALLDAYEVENT:FALSE
SUMMARY:Facebook Live Interview
DESCRIPTION:Join us on Wednesday\, November 16th on Facebook Live to learn about tips for building your website!
X-ALT-DESC;FMTTYPE=text/html:<span style="color: rgb(5\, 5\, 5)\; font-family: &quot\;Segoe UI Historic&quot\;\, &quot\;Segoe UI&quot\;\, Helvetica\, Arial\, sans-serif\; font-size: 15px\; white-space: pre-wrap\; background-color: rgb(255\, 255\, 255)\;">Join us on Wednesday\, November 16th on Facebook Live to learn about tips for building your website!</span>
LOCATION:Facebook Live
UID:e.3598.3588626
SEQUENCE:3
DTSTAMP:20260420T121106Z
URL:https://business.lakeforestcachamber.com/events/details/facebook-live-interview-3588626
END:VEVENT

END:VCALENDAR
