BEGIN:VCALENDAR
VERSION:2.0
PRODID:-//ChamberMaster//Event Calendar 2.0//EN
METHOD:PUBLISH
X-PUBLISHED-TTL:P3D
REFRESH-INTERVAL:P3D
CALSCALE:GREGORIAN
BEGIN:VEVENT
DTSTART:20230503T183000Z
DTEND:20230503T190000Z
X-MICROSOFT-CDO-ALLDAYEVENT:FALSE
SUMMARY:Facebook Live Interview - Producing Wines in Orange County
DESCRIPTION:Join in on Facebook Live to hear Steve Smith interview Josh Frisby with Frisby Cellars!
X-ALT-DESC;FMTTYPE=text/html:Join in on Facebook Live to hear Steve Smith interview Josh Frisby with Frisby Cellars!
LOCATION:Facebook Live
UID:e.3598.3588666
SEQUENCE:3
DTSTAMP:20260422T105643Z
URL:https://business.lakeforestcachamber.com/events/details/facebook-live-interview-producing-wines-in-orange-county-3588666
END:VEVENT

END:VCALENDAR
