BEGIN:VCALENDAR
VERSION:2.0
PRODID:-//ChamberMaster//Event Calendar 2.0//EN
METHOD:PUBLISH
X-PUBLISHED-TTL:P3D
REFRESH-INTERVAL:P3D
CALSCALE:GREGORIAN
BEGIN:VEVENT
DTSTART:20221026T000000Z
DTEND:20221026T013000Z
X-MICROSOFT-CDO-ALLDAYEVENT:FALSE
SUMMARY:Happy Hour Networking
DESCRIPTION:Lake Forest Chamber and the Rotary Club of Greater Lake Forest are hosting a Happy Hour Networking Mixer!
X-ALT-DESC;FMTTYPE=text/html:Lake Forest Chamber and the Rotary Club of Greater Lake Forest are hosting a Happy Hour Networking Mixer!
LOCATION:3rd Place Coffee 26741 Portola Parkway 1A Foothill Ranch\, CA 92610
UID:e.3598.3588621
SEQUENCE:3
DTSTAMP:20260421T144033Z
URL:https://business.lakeforestcachamber.com/events/details/happy-hour-networking-3588621
END:VEVENT

END:VCALENDAR
