BEGIN:VCALENDAR
VERSION:2.0
PRODID:-//ChamberMaster//Event Calendar 2.0//EN
METHOD:PUBLISH
X-PUBLISHED-TTL:P3D
REFRESH-INTERVAL:P3D
CALSCALE:GREGORIAN
BEGIN:VEVENT
DTSTART:20221123T010000Z
DTEND:20221123T023000Z
X-MICROSOFT-CDO-ALLDAYEVENT:FALSE
SUMMARY:Happy Hour Networking
DESCRIPTION:Join us for networking hosted by the Lake Forest Chamber and the Rotary Club of Greater Lake Forest!
X-ALT-DESC;FMTTYPE=text/html:Join us for networking hosted by the Lake Forest Chamber and the Rotary Club of Greater Lake Forest!
LOCATION:Lupe's Mexican Eatery 24531 Trabuco Road\, Ste. F Lake Forest\, CA 92630
UID:e.3598.3588628
SEQUENCE:3
DTSTAMP:20260420T191515Z
URL:https://business.lakeforestcachamber.com/events/details/happy-hour-networking-3588628
END:VEVENT

END:VCALENDAR
