BEGIN:VCALENDAR
VERSION:2.0
PRODID:-//ChamberMaster//Event Calendar 2.0//EN
METHOD:PUBLISH
X-PUBLISHED-TTL:P3D
REFRESH-INTERVAL:P3D
CALSCALE:GREGORIAN
BEGIN:VEVENT
DTSTART:20200922T200000Z
DTEND:20200922T203000Z
X-MICROSOFT-CDO-ALLDAYEVENT:FALSE
SUMMARY:How Sal's Pizzeria came to be and how we have adapted our business model
DESCRIPTION:Topic: How Sal's Pizzeria came to be and how we have adapted our business model. \n\n\n\nInterview with Matthew Darienzo
X-ALT-DESC;FMTTYPE=text/html:<span style="font-family:calibri\,sans-serif\;"><span style="font-size:11.0pt\;">Topic: How Sal&#39\;s Pizzeria came to be and how we have adapted our business model.&nbsp\;<br />\n<br />\n<span style="font-size:14px\;"><span style="font-family:arial\;">Interview with&nbsp\;</span></span></span></span><span style="font-size:14px\;"><span style="font-family:arial\;"><strong><span style="color:#42749E\;">Matthew Darienzo</span></strong></span></span>
LOCATION:Facebook Live
UID:e.3598.3588270
SEQUENCE:3
DTSTAMP:20260422T164153Z
URL:https://business.lakeforestcachamber.com/events/details/how-sal-s-pizzeria-came-to-be-and-how-we-have-adapted-our-business-model-3588270
END:VEVENT

END:VCALENDAR
