BEGIN:VCALENDAR
VERSION:2.0
PRODID:-//ChamberMaster//Event Calendar 2.0//EN
METHOD:PUBLISH
X-PUBLISHED-TTL:P3D
REFRESH-INTERVAL:P3D
CALSCALE:GREGORIAN
BEGIN:VEVENT
DTSTART:20201022T013000Z
DTEND:20201022T023000Z
X-MICROSOFT-CDO-ALLDAYEVENT:FALSE
SUMMARY:Navigating Screen Time with Children
DESCRIPTION:The Class with Cover: - The importance of joint attention - The impact of technology on the developing brain - Provide online and offline activities to do with your child to foster development - Understanding how to build skills across the domains of physical well being\, social competence\, emotional maturity\, language and cognitive development\, along with communication and general knowledge We will discuss the 3 concurrent phenomena of the new childhood\, including rapid brain growth during the first five years of life\, the role of executive functioning in the daily life of the child\, and current media exposure concerns.
X-ALT-DESC;FMTTYPE=text/html:The Class with Cover: - The importance of joint attention - The impact of technology on the developing brain - Provide online and offline activities to do with your child to foster development - Understanding how to build skills across the domains of physical well being\, social competence\, emotional maturity\, language and cognitive development\, along with communication and general knowledge We will discuss the 3 concurrent phenomena of the new childhood\, including rapid brain growth during the first five years of life\, the role of executive functioning in the daily life of the child\, and current media exposure concerns.
LOCATION:Webinar- Zoom Event
UID:e.3598.3588289
SEQUENCE:3
DTSTAMP:20260422T133602Z
URL:https://business.lakeforestcachamber.com/events/details/navigating-screen-time-with-children-3588289
END:VEVENT

END:VCALENDAR
