BEGIN:VCALENDAR
VERSION:2.0
PRODID:-//ChamberMaster//Event Calendar 2.0//EN
METHOD:PUBLISH
X-PUBLISHED-TTL:P3D
REFRESH-INTERVAL:P3D
CALSCALE:GREGORIAN
BEGIN:VEVENT
DTSTART:20200915T200000Z
DTEND:20200915T203500Z
X-MICROSOFT-CDO-ALLDAYEVENT:FALSE
SUMMARY:Opening a storefront in the middle of a pandemic
DESCRIPTION:Elizabeth Zwicker\n\nOwner - A Little Something Sweet Desserts\n\n\n\nTopic of discussion \n\nOpening a storefront in the middle of a pandemic
X-ALT-DESC;FMTTYPE=text/html:<strong><span style="font-family:georgia\,serif\;">Elizabeth Zwicker</span></strong><br />\n<span style="font-family:georgia\,serif\;">Owner - A Little Something Sweet Desserts</span><br />\n<br />\n<strong><span style="font-family:georgia\,serif\;">Topic of discussion&nbsp\;</span></strong><br />\n<span style="font-family:georgia\,serif\;">Opening a storefront in the middle of a pandemic</span><br />\n&nbsp\;
LOCATION:via FaceBook Live
UID:e.3598.3588271
SEQUENCE:3
DTSTAMP:20260422T164138Z
URL:https://business.lakeforestcachamber.com/events/details/opening-a-storefront-in-the-middle-of-a-pandemic-3588271
END:VEVENT

END:VCALENDAR
