BEGIN:VCALENDAR
VERSION:2.0
PRODID:-//ChamberMaster//Event Calendar 2.0//EN
METHOD:PUBLISH
X-PUBLISHED-TTL:P3D
REFRESH-INTERVAL:P3D
CALSCALE:GREGORIAN
BEGIN:VEVENT
DTSTART:20200930T200000Z
DTEND:20200930T203000Z
X-MICROSOFT-CDO-ALLDAYEVENT:FALSE
SUMMARY:Soroptimist International of Saddleback Valley
DESCRIPTION:Soroptimist International of Saddleback Valley has been serving Lake Forest and the surrounding communities for over 46 years.  \n\nInterview with: Sue Burke
X-ALT-DESC;FMTTYPE=text/html:<span style="font-family:calibri\,sans-serif\;"><span style="font-size:11.0pt\;">Soroptimist International of Saddleback Valley has been serving Lake Forest and the surrounding&nbsp\;communities for over 46 years.&nbsp\;&nbsp\;<br />\nInterview with: Sue Burke</span></span>
LOCATION:Via Facebook Live
UID:e.3598.3588275
SEQUENCE:3
DTSTAMP:20260422T164317Z
URL:https://business.lakeforestcachamber.com/events/details/soroptimist-international-of-saddleback-valley-3588275
END:VEVENT

END:VCALENDAR
