BEGIN:VCALENDAR
VERSION:2.0
PRODID:-//ChamberMaster//Event Calendar 2.0//EN
METHOD:PUBLISH
X-PUBLISHED-TTL:P3D
REFRESH-INTERVAL:P3D
CALSCALE:GREGORIAN
BEGIN:VEVENT
DTSTART:20200915T180000Z
DTEND:20200915T190000Z
X-MICROSOFT-CDO-ALLDAYEVENT:FALSE
SUMMARY:Trade\, Tariffs\, & More w/ former SBA Director Hector Barreto
DESCRIPTION:A conversation with former SBA Director & The Latino Coalition Chairman Hector Barreto
X-ALT-DESC;FMTTYPE=text/html:<strong>A conversation with former SBA Director &amp\; The Latino Coalition Chairman Hector Barreto</strong>
LOCATION:September 15\, 2020\, 11 A.M.- 12 P.M.
UID:e.3598.3588265
SEQUENCE:3
DTSTAMP:20260422T163146Z
URL:https://business.lakeforestcachamber.com/events/details/trade-tariffs-more-w-former-sba-director-hector-barreto-3588265
END:VEVENT

END:VCALENDAR
