BEGIN:VCALENDAR
VERSION:2.0
PRODID:-//ChamberMaster//Event Calendar 2.0//EN
METHOD:PUBLISH
X-PUBLISHED-TTL:P3D
REFRESH-INTERVAL:P3D
CALSCALE:GREGORIAN
BEGIN:VEVENT
DTSTART:20200929T200000Z
DTEND:20200929T203000Z
X-MICROSOFT-CDO-ALLDAYEVENT:FALSE
SUMMARY:What it Takes to Come to America Legally!
DESCRIPTION:Host Jeff Bott will interview Susan E. Hill Partner\, Hill & PIIbe\, Immigration Attorneys
X-ALT-DESC;FMTTYPE=text/html:Host Jeff Bott will interview Susan E. Hill Partner\, Hill &amp\; PIIbe\, Immigration Attorneys&nbsp\;
LOCATION:
UID:e.3598.3588266
SEQUENCE:3
DTSTAMP:20260423T193812Z
URL:https://business.lakeforestcachamber.com/events/details/what-it-takes-to-come-to-america-legally-3588266
END:VEVENT

END:VCALENDAR
